BEGIN:VCALENDAR
VERSION:2.0
PRODID:-//eventon.com NONSGML v1.0//EN
CALSCALE:GREGORIAN
METHOD:PUBLISH
BEGIN:VEVENT
UID:69e4eebf89e0d
DTSTAMP:20260419T150327Z
DTSTART:20250915
DTEND:20250916
LOCATION:
SUMMARY:First Practices
DESCRIPTION:First Practices\nhttps://ak.usayess.org/events/first-practices/
URL:https://ak.usayess.org/events/first-practices/
END:VEVENT
END:VCALENDAR